BEGIN:VCALENDAR
VERSION:2.0
PRODID:-//Muncie Neighborhoods - ECPv6.15.20//NONSGML v1.0//EN
CALSCALE:GREGORIAN
METHOD:PUBLISH
X-WR-CALNAME:Muncie Neighborhoods
X-ORIGINAL-URL:https://muncieneighborhoods.org
X-WR-CALDESC:Events for Muncie Neighborhoods
REFRESH-INTERVAL;VALUE=DURATION:PT1H
X-Robots-Tag:noindex
X-PUBLISHED-TTL:PT1H
BEGIN:VTIMEZONE
TZID:America/Indiana/Indianapolis
BEGIN:DAYLIGHT
TZOFFSETFROM:-0500
TZOFFSETTO:-0400
TZNAME:EDT
DTSTART:20250309T070000
END:DAYLIGHT
BEGIN:STANDARD
TZOFFSETFROM:-0400
TZOFFSETTO:-0500
TZNAME:EST
DTSTART:20251102T060000
END:STANDARD
BEGIN:DAYLIGHT
TZOFFSETFROM:-0500
TZOFFSETTO:-0400
TZNAME:EDT
DTSTART:20260308T070000
END:DAYLIGHT
BEGIN:STANDARD
TZOFFSETFROM:-0400
TZOFFSETTO:-0500
TZNAME:EST
DTSTART:20261101T060000
END:STANDARD
BEGIN:DAYLIGHT
TZOFFSETFROM:-0500
TZOFFSETTO:-0400
TZNAME:EDT
DTSTART:20270314T070000
END:DAYLIGHT
BEGIN:STANDARD
TZOFFSETFROM:-0400
TZOFFSETTO:-0500
TZNAME:EST
DTSTART:20271107T060000
END:STANDARD
END:VTIMEZONE
BEGIN:VEVENT
DTSTART;TZID=America/Indiana/Indianapolis:20260421T170000
DTEND;TZID=America/Indiana/Indianapolis:20260421T190000
DTSTAMP:20260421T015353
CREATED:20260313T180007Z
LAST-MODIFIED:20260408T152213Z
UID:19600-1776790800-1776798000@muncieneighborhoods.org
SUMMARY:April Neighborhood Leadership Council Meeting: Local Government
DESCRIPTION:This month’s topic is Muncie’s Local Government | Full schedule \nThe Neighborhood Leadership Council is an initiative of the Muncie Action Plan that brings together neighborhood association leaders from across the city of Muncie to share best practices\, take advantage of educational opportunities\, and connect with local resources and area non-profits. The group meets on the third Tuesday of each month on the third floor of the E.B. and Bertha C. Ball Center (400 W. Minnetrista Pkwy) at 6:00 p.m. Everyone is welcome to attend. \nCome hungry! We always provide dinner at the start of the training.
URL:https://muncieneighborhoods.org/event/april-neighborhood-leadership-council-meeting-local-government/
LOCATION:EB & Bertha C Ball Center\, 400 W. Minnetrista Blvd.\, Muncie\, IN\, 47303\, United States
CATEGORIES:Free,NLC
ATTACH;FMTTYPE=image/png:https://muncieneighborhoods.org/wp-content/uploads/2026/03/NLC-Header-Image-scaled.png
ORGANIZER;CN="Heather Williams":MAILTO:hlwilliams@bsu.edu
END:VEVENT
BEGIN:VEVENT
DTSTART;TZID=America/Indiana/Indianapolis:20260421T193000
DTEND;TZID=America/Indiana/Indianapolis:20260421T220000
DTSTAMP:20260421T015353
CREATED:20260402T201122Z
LAST-MODIFIED:20260402T201122Z
UID:19687-1776799800-1776808800@muncieneighborhoods.org
SUMMARY:The 25th Annual Putnam County Spelling Bee
DESCRIPTION:An oddball crew of middle schoolers gather for the annual Putnam County Spelling Bee\, where the words are tough\, the competition is tougher\, and the emotions run hilariously high. Amid outrageous antics and heartfelt confessions\, the spellers learn that there’s more to life than winning. Tickets available through the College of Fine Arts Box Office in person\, online at bsu.tix.com\, or by phone at 765-285-8749. \nTHE 25TH ANNUAL PUTNAM COUNTY SPELLING BEE Is presented through special arrangement with Music Theatre International (MTI). All authorized performance materials are also supplied by MTI. http://www.mtishows.com \nMusic & Lyrics by William Finn Book by Rachel Sheinkin\nConceived by Rebecca Feldman\nAdditional Material by Jay Reiss\nOriginally Directed on Broadway by James Lapine \nDirected by Carson Crow\nMusical Direction by Jim Rhinehart\nChoreography by Kelsey Krigas\nApril 16-18\, 21-25 at 7:30 p.m. | April 19 at 2:30 p.m.
URL:https://muncieneighborhoods.org/event/the-25th-annual-putnam-county-spelling-bee-5/
LOCATION:Ball State Oakwood Building\, Rm 101\, 2501 N Oakwood Ave\, Muncie\, IN\, 47303
CATEGORIES:Ball State Neighborhood
ATTACH;FMTTYPE=image/jpeg:https://muncieneighborhoods.org/wp-content/uploads/2026/04/mSG2ilGnaiP6-SpellingBee_PromoMaterials_Digital_20260323_YoutubeThumbnail-scaled.jpg
ORGANIZER;CN="Mary Grace Walke":MAILTO:mary.rodgers@bsu.edu
END:VEVENT
END:VCALENDAR